BEGIN:VCALENDAR
VERSION:2.0
PRODID:-//Hartford Jazz Society - ECPv6.15.20//NONSGML v1.0//EN
CALSCALE:GREGORIAN
METHOD:PUBLISH
X-WR-CALNAME:Hartford Jazz Society
X-ORIGINAL-URL:https://hartfordjazzsociety.com
X-WR-CALDESC:Events for Hartford Jazz Society
REFRESH-INTERVAL;VALUE=DURATION:PT1H
X-Robots-Tag:noindex
X-PUBLISHED-TTL:PT1H
BEGIN:VTIMEZONE
TZID:America/New_York
BEGIN:DAYLIGHT
TZOFFSETFROM:-0500
TZOFFSETTO:-0400
TZNAME:EDT
DTSTART:20250309T070000
END:DAYLIGHT
BEGIN:STANDARD
TZOFFSETFROM:-0400
TZOFFSETTO:-0500
TZNAME:EST
DTSTART:20251102T060000
END:STANDARD
BEGIN:DAYLIGHT
TZOFFSETFROM:-0500
TZOFFSETTO:-0400
TZNAME:EDT
DTSTART:20260308T070000
END:DAYLIGHT
BEGIN:STANDARD
TZOFFSETFROM:-0400
TZOFFSETTO:-0500
TZNAME:EST
DTSTART:20261101T060000
END:STANDARD
BEGIN:DAYLIGHT
TZOFFSETFROM:-0500
TZOFFSETTO:-0400
TZNAME:EDT
DTSTART:20270314T070000
END:DAYLIGHT
BEGIN:STANDARD
TZOFFSETFROM:-0400
TZOFFSETTO:-0500
TZNAME:EST
DTSTART:20271107T060000
END:STANDARD
END:VTIMEZONE
BEGIN:VEVENT
DTSTART;TZID=America/New_York:20260322T140000
DTEND;TZID=America/New_York:20260322T170000
DTSTAMP:20260425T094821
CREATED:20260316T040208Z
LAST-MODIFIED:20260316T040208Z
UID:10007655-1774188000-1774198800@hartfordjazzsociety.com
SUMMARY:Kris Allen Quartet
DESCRIPTION:Kris Allen: saxophones\nMichael Carabello on keyboard\nZwelakhe Duma Bell le Pere on bass \nJimmy Gavagan on drumset \nA native of West Hartford CT and a protégé of the great Jackie McLean\, Kris has forged a clear conceptual and aural identity as a saxophonist\, composer\, bandleader and recording artist. appearing on dozens of albums. His latest release as a leader\, June\, is his third critically acclaimed album for the Truth Revolution Recording Collective \n“Allen\, for all of his fluency in the language of jazz and deep knowledge of the music’s modern masters\, is very much his own man with his own creative voice.”- WNPR.org\n“Diverse and impassioned….Subtlety\, surprise and a sense of urgency… Locating the profound within the familiar”- Downbeat Magazine \nKris has performed and/or recorded with Illinois Jacquet\, Gerald Wilson\, Andy Gonzales\, Jimmy Greene\, Helen Sung\, Jonathan Barber\, Winard Harper\, Andy Laverne\, the Mingus Dynasty\, Avery Sharpe\, Ike Sturm\, Rogerio Boccato\, Andy Jaffe\, Kendrick Oliver’s New Life Orchestra\, Noah Baerman\, the Curtis Brothers and Mario Pavone among others. He has collaborated with dancers\, poets\, and visual artists\, as well as musicians from across diverse genres. Kris’s work has been honored with numerous awards and commissions\, including a Macdowell Artist’s Colony fellowship and the Connecticut Office of the Arts fellowship. He currently tours widely as the leader of his own quartet/quintet and as a member of the collaboratively led “Triangle Offense” trio with bassist Matt Dwonszyk and Jonathan Barber. Prior to his time at Williams\, he served as a faculty member at Trinity College\, the Hartt School\, Southern Connecticut State University and the Greater Hartford Academy of the Performing Arts\, and he has been a senior teaching artist for Litchfield Performing Arts since 2001. Kris is a Vandoren Artist and plays Vandoren mouthpieces\, reeds and ligatures exclusively.
URL:https://hartfordjazzsociety.com/event/kris-allen-quartet/
LOCATION:New Park Brewing\, 485 New Park Avenue\, West Hartford\, CT
END:VEVENT
END:VCALENDAR