BEGIN:VCALENDAR
VERSION:2.0
PRODID:-//Hartford Jazz Society - ECPv6.15.20//NONSGML v1.0//EN
CALSCALE:GREGORIAN
METHOD:PUBLISH
X-WR-CALNAME:Hartford Jazz Society
X-ORIGINAL-URL:https://hartfordjazzsociety.com
X-WR-CALDESC:Events for Hartford Jazz Society
REFRESH-INTERVAL;VALUE=DURATION:PT1H
X-Robots-Tag:noindex
X-PUBLISHED-TTL:PT1H
BEGIN:VTIMEZONE
TZID:America/New_York
BEGIN:DAYLIGHT
TZOFFSETFROM:-0500
TZOFFSETTO:-0400
TZNAME:EDT
DTSTART:20240310T070000
END:DAYLIGHT
BEGIN:STANDARD
TZOFFSETFROM:-0400
TZOFFSETTO:-0500
TZNAME:EST
DTSTART:20241103T060000
END:STANDARD
BEGIN:DAYLIGHT
TZOFFSETFROM:-0500
TZOFFSETTO:-0400
TZNAME:EDT
DTSTART:20250309T070000
END:DAYLIGHT
BEGIN:STANDARD
TZOFFSETFROM:-0400
TZOFFSETTO:-0500
TZNAME:EST
DTSTART:20251102T060000
END:STANDARD
BEGIN:DAYLIGHT
TZOFFSETFROM:-0500
TZOFFSETTO:-0400
TZNAME:EDT
DTSTART:20260308T070000
END:DAYLIGHT
BEGIN:STANDARD
TZOFFSETFROM:-0400
TZOFFSETTO:-0500
TZNAME:EST
DTSTART:20261101T060000
END:STANDARD
END:VTIMEZONE
BEGIN:VEVENT
DTSTART;TZID=America/New_York:20251107T193000
DTEND;TZID=America/New_York:20251107T213000
DTSTAMP:20260424T133550
CREATED:20251015T233023Z
LAST-MODIFIED:20251015T233023Z
UID:10006928-1762543800-1762551000@hartfordjazzsociety.com
SUMMARY:Thames River Big Band
DESCRIPTION:The Thames River Big Band is a musical ensemble known for performing classic big band jazz\, swing\, and contemporary arrangements. Based in the Thames River region\, the group features talented musicians who pay tribute to the rich tradition of big band music through energetic live performances. Their repertoire often includes timeless hits from legendary artists such as Duke Ellington\, Count Basie\, and Glenn Miller\, as well as modern jazz standards. The band is popular for entertaining audiences at local events\, festivals\, and private celebrations\, bringing the vibrant sound of the big band era to contemporary listeners. \n​$10 Adults \n$8 Seniors/Military/Student \n$5 Members
URL:https://hartfordjazzsociety.com/event/thames-river-big-band/
LOCATION:Norwich Arts Center\, 62 Broadway\, Norwich\, CT\, 06360
END:VEVENT
END:VCALENDAR