BEGIN:VCALENDAR
VERSION:2.0
PRODID:-//Hartford Jazz Society - ECPv6.15.20//NONSGML v1.0//EN
CALSCALE:GREGORIAN
METHOD:PUBLISH
X-ORIGINAL-URL:https://hartfordjazzsociety.com
X-WR-CALDESC:Events for Hartford Jazz Society
REFRESH-INTERVAL;VALUE=DURATION:PT1H
X-Robots-Tag:noindex
X-PUBLISHED-TTL:PT1H
BEGIN:VTIMEZONE
TZID:America/New_York
BEGIN:DAYLIGHT
TZOFFSETFROM:-0500
TZOFFSETTO:-0400
TZNAME:EDT
DTSTART:20250309T070000
END:DAYLIGHT
BEGIN:STANDARD
TZOFFSETFROM:-0400
TZOFFSETTO:-0500
TZNAME:EST
DTSTART:20251102T060000
END:STANDARD
BEGIN:DAYLIGHT
TZOFFSETFROM:-0500
TZOFFSETTO:-0400
TZNAME:EDT
DTSTART:20260308T070000
END:DAYLIGHT
BEGIN:STANDARD
TZOFFSETFROM:-0400
TZOFFSETTO:-0500
TZNAME:EST
DTSTART:20261101T060000
END:STANDARD
BEGIN:DAYLIGHT
TZOFFSETFROM:-0500
TZOFFSETTO:-0400
TZNAME:EDT
DTSTART:20270314T070000
END:DAYLIGHT
BEGIN:STANDARD
TZOFFSETFROM:-0400
TZOFFSETTO:-0500
TZNAME:EST
DTSTART:20271107T060000
END:STANDARD
END:VTIMEZONE
BEGIN:VEVENT
DTSTART;TZID=America/New_York:20260514T183000
DTEND;TZID=America/New_York:20260514T213000
DTSTAMP:20260425T072211
CREATED:20260408T153902Z
LAST-MODIFIED:20260408T153902Z
UID:10007739-1778783400-1778794200@hartfordjazzsociety.com
SUMMARY:Brian Charette Organ Trio
DESCRIPTION:Brian Charette : Hammond B3 \nEric Zolan : Guitar \nJorden Young : Drums \nGrammy nominated\, Hammond organist\, Brian Charette has established himself as a leading voice in modern jazz. He has worked with many notable artists such as Joni Mitchell\, Chaka Khan\, Lou Donaldson\, and countless others. Since moving to New York in 1995 from his native Meriden\, Connecticut\, Charette has become an integral part of the New York City jazz scene. \nBrian is a SteepleChase recording artist\, and has just released his third recording for them\, “Music for Organ Sextette”. He also just finished a solo organ recording that will be out in January 2013. Brian performs regularly all over the world. This year\, Brian has been playing very successful engagements in NYC\, LA\, Spain\, Indonesia\, Czech Republic\, and Germany. \nBrian writes master classes regularly for Keyboard Magazine\, and has recently become a Nord endorsed artist. In June\, Downbeat Magazine gave “Music for Organ Sextette” 3 1/2 stars and listed Brian as a “Rising Star” in the 2012 Critics Poll. \nAs a sideman\, Brian records with many popular jazz artists; most recently with Tony Desare\, Bucky Pizzarelli\, Mike DiRubbo and Vic Juris. Mr. Charette is also featured prominently on two new Mel Bay instructional DVDs by Rodney Jones and Sheryl Bailey. Brian also teaches master classes and private lessons all over the world. Most recently in Lugo\, Spain at Fabrica de Sons and Jaroslav Jesek Conservatory in Praha\, Czech Republic. In July 2012\, Brian will be on the faculty for the Czech Jazz Summer Workshop.
URL:https://hartfordjazzsociety.com/event/brian-charette-organ-trio-2/
LOCATION:Primavera Pub\, 283 Newington Avenue\, Hartford\, CT
END:VEVENT
END:VCALENDAR