BEGIN:VCALENDAR
VERSION:2.0
PRODID:-//Hartford Jazz Society - ECPv6.15.20//NONSGML v1.0//EN
CALSCALE:GREGORIAN
METHOD:PUBLISH
X-WR-CALNAME:Hartford Jazz Society
X-ORIGINAL-URL:https://hartfordjazzsociety.com
X-WR-CALDESC:Events for Hartford Jazz Society
REFRESH-INTERVAL;VALUE=DURATION:PT1H
X-Robots-Tag:noindex
X-PUBLISHED-TTL:PT1H
BEGIN:VTIMEZONE
TZID:America/New_York
BEGIN:DAYLIGHT
TZOFFSETFROM:-0500
TZOFFSETTO:-0400
TZNAME:EDT
DTSTART:20250309T070000
END:DAYLIGHT
BEGIN:STANDARD
TZOFFSETFROM:-0400
TZOFFSETTO:-0500
TZNAME:EST
DTSTART:20251102T060000
END:STANDARD
BEGIN:DAYLIGHT
TZOFFSETFROM:-0500
TZOFFSETTO:-0400
TZNAME:EDT
DTSTART:20260308T070000
END:DAYLIGHT
BEGIN:STANDARD
TZOFFSETFROM:-0400
TZOFFSETTO:-0500
TZNAME:EST
DTSTART:20261101T060000
END:STANDARD
BEGIN:DAYLIGHT
TZOFFSETFROM:-0500
TZOFFSETTO:-0400
TZNAME:EDT
DTSTART:20270314T070000
END:DAYLIGHT
BEGIN:STANDARD
TZOFFSETFROM:-0400
TZOFFSETTO:-0500
TZNAME:EST
DTSTART:20271107T060000
END:STANDARD
END:VTIMEZONE
BEGIN:VEVENT
DTSTART;TZID=America/New_York:20260220T193000
DTEND;TZID=America/New_York:20260220T213000
DTSTAMP:20260425T084700
CREATED:20260120T181656Z
LAST-MODIFIED:20260130T023705Z
UID:10007575-1771615800-1771623000@hartfordjazzsociety.com
SUMMARY:New Black Eagles Jazz Band
DESCRIPTION:A cabaret concert with the New Black Eagle Jazz Band \n(pub menu\, desserts\, and beverages available separately) \nLouis Armstrong was one of the most influential figures in the history of American music. With a career spanning five decades\, he was a cross-genre sensation\, a member of the Down Beat Jazz Hall of Fame\, the Rock and Roll Hall of Fame\, and the Rhythm and Blues Hall of Fame. From “Hello\, Dolly” to “Stompin’ at the Savoy” to “When the Saints Go Marching in”\, everybody has a favorite tune by Satchmo. It’s no wonder he also received a Grammy Lifetime Achievement Award. His music is still performed today by any jazz group that is serious about their art. \nThe New Black Eagle Jazz Band brings faithful recreations of Armstrong’s music to the Berkshires\, performing ten of his most notable numbers in this cabaret concert (dancing optional; to some\, it will be inevitable). The concert takes place in Proprietor’s Lodge music hall\, on the shores of Lake Pontoosuc\, 22 Waubeek Road\, Pittsfield. Light snacks {charcuterie for all) are included in the ticket price; pub menu and dessert menus will also be available starting at 6:30pm. \nFor more than 50 years\, from Symphony Hall to Singapore\, the New Black Eagle Jazz Band has been delighting audiences worldwide with its infectious\, soulful and uplifting style of traditional New Orleans jazz. Paying homage to the greatest musicians of the early jazz era\, the band has also developed its own eclectic sound\, incorporating spirituals\, and 1920’s and 30’s popular music. They have played for Berkshires Jazz three times over the years\, and we’re delighted to be welcoming them back. \nAnd now\, here’s your chance to hear that marvelous music performed by –as the New York Times wrote– a band that is “… “so far ahead of other traditional bands… there is scarcely any basis for comparison”.
URL:https://hartfordjazzsociety.com/event/new-black-eagles-jazz-band/
LOCATION:Proprietor’s Lodge\, 22 Waubeek Road\, Pittsfield\, MA
END:VEVENT
END:VCALENDAR