BEGIN:VCALENDAR
VERSION:2.0
PRODID:-//Hartford Jazz Society - ECPv6.15.20//NONSGML v1.0//EN
CALSCALE:GREGORIAN
METHOD:PUBLISH
X-WR-CALNAME:Hartford Jazz Society
X-ORIGINAL-URL:https://hartfordjazzsociety.com
X-WR-CALDESC:Events for Hartford Jazz Society
REFRESH-INTERVAL;VALUE=DURATION:PT1H
X-Robots-Tag:noindex
X-PUBLISHED-TTL:PT1H
BEGIN:VTIMEZONE
TZID:America/New_York
BEGIN:DAYLIGHT
TZOFFSETFROM:-0500
TZOFFSETTO:-0400
TZNAME:EDT
DTSTART:20240310T070000
END:DAYLIGHT
BEGIN:STANDARD
TZOFFSETFROM:-0400
TZOFFSETTO:-0500
TZNAME:EST
DTSTART:20241103T060000
END:STANDARD
BEGIN:DAYLIGHT
TZOFFSETFROM:-0500
TZOFFSETTO:-0400
TZNAME:EDT
DTSTART:20250309T070000
END:DAYLIGHT
BEGIN:STANDARD
TZOFFSETFROM:-0400
TZOFFSETTO:-0500
TZNAME:EST
DTSTART:20251102T060000
END:STANDARD
BEGIN:DAYLIGHT
TZOFFSETFROM:-0500
TZOFFSETTO:-0400
TZNAME:EDT
DTSTART:20260308T070000
END:DAYLIGHT
BEGIN:STANDARD
TZOFFSETFROM:-0400
TZOFFSETTO:-0500
TZNAME:EST
DTSTART:20261101T060000
END:STANDARD
BEGIN:DAYLIGHT
TZOFFSETFROM:-0500
TZOFFSETTO:-0400
TZNAME:EDT
DTSTART:20270314T070000
END:DAYLIGHT
BEGIN:STANDARD
TZOFFSETFROM:-0400
TZOFFSETTO:-0500
TZNAME:EST
DTSTART:20271107T060000
END:STANDARD
END:VTIMEZONE
BEGIN:VEVENT
DTSTART;TZID=America/New_York:20260412T143000
DTEND;TZID=America/New_York:20260412T163000
DTSTAMP:20260424T190605
CREATED:20260318T222349Z
LAST-MODIFIED:20260318T222349Z
UID:10007659-1776004200-1776011400@hartfordjazzsociety.com
SUMMARY:Instantiations Monthly Music Series at Real Art Ways
DESCRIPTION:Instantiations\, formerly known as Improvisations Now\, is a monthly series of concerts conceived and programmed by Joe Morris (guitarist\, bassist\, improviser\, composer-wearer of many hats). Joe invites dynamic\, innovative musicians – important members of the global improvised music scene – and performs with them. The music is completely improvised. Every concert\, every instance is a unique experience. \nSunday\, 4/12\, 2:30 pm: Melanie Dyer-viola; Solomon Caldwell-bass; Joe Morris-guitar  \nSunday\, 5/3\, 2:30 pm: Selendis Sebastian Alexander Johnson-vibraphone; Lemuel Marc-trumpet; Joe Morris-bass \nGeneral Admission $15 / Members $12 / Students $8 \nJoin us on Facebook and Instagram to get the latest!
URL:https://hartfordjazzsociety.com/event/instantiations-monthly-music-series-at-real-art-ways-5/
LOCATION:Real Art Ways\, 56 Arbor St\, Hartford\, CT
END:VEVENT
BEGIN:VEVENT
DTSTART;TZID=America/New_York:20260315T143000
DTEND;TZID=America/New_York:20260315T163000
DTSTAMP:20260424T190605
CREATED:20260225T225754Z
LAST-MODIFIED:20260225T225754Z
UID:10007628-1773585000-1773592200@hartfordjazzsociety.com
SUMMARY:Instantiations Monthly Music Series at Real Art Ways
DESCRIPTION:Instantiations\, formerly known as Improvisations Now\, is a monthly series of concerts conceived and programmed by Joe Morris (guitarist\, bassist\, improviser\, composer-wearer of many hats). Joe invites dynamic\, innovative musicians – important members of the global improvised music scene – and performs with them. The music is completely improvised. Every concert\, every instance is a unique experience. \nSunday\, 3/15\, 2:30 pm: L. Mixashawn Rozie-tenor\, soprano saxophone\, mandolin\, voice; Michael Larocca-drums; Joe Morris-bass  \nSunday\, 4/12\, 2:30 pm: Melanie Dyer-viola; Solomon Caldwell-bass; Joe Morris-guitar  \nSunday\, 5/3\, 2:30 pm: Selendis Sebastian Alexander Johnson-vibraphone; Lemuel Marc-trumpet; Joe Morris-bass \nGeneral Admission $15 / Members $12 / Students $8 \nJoin us on Facebook and Instagram to get the latest!
URL:https://hartfordjazzsociety.com/event/instantiations-monthly-music-series-at-real-art-ways-4/
LOCATION:Real Art Ways\, 56 Arbor St\, Hartford\, CT
END:VEVENT
BEGIN:VEVENT
DTSTART;TZID=America/New_York:20260215T143000
DTEND;TZID=America/New_York:20260215T163000
DTSTAMP:20260424T190605
CREATED:20260121T220455Z
LAST-MODIFIED:20260121T220455Z
UID:10007577-1771165800-1771173000@hartfordjazzsociety.com
SUMMARY:Instantiations Monthly Music Series at Real Art Ways
DESCRIPTION:Instantiations\, formerly known as Improvisations Now\, is a monthly series of concerts conceived and programmed by Joe Morris (guitarist\, bassist\, improviser\, composer-wearer of many hats). Joe invites dynamic\, innovative musicians – important members of the global improvised music scene – and performs with them. The music is completely improvised. Every concert\, every instance is a unique experience. \nSunday\, 2/15\, 2:30 pm: Adam Matlock-accordion; Diane Buettner-bass clarinet\, clarinet; Yoona Kim-Ajaeng; Joe Morris-guitar  \nSunday\, 3/15\, 2:30 pm: L. Mixashawn Rozie-tenor\, soprano saxophone\, mandolin\, voice; Michael Larocca-drums; Joe Morris-bass  \nSunday\, 4/12\, 2:30 pm: Melanie Dyer-viola; Solomon Caldwell-bass; Joe Morris-guitar  \nSunday\, 5/3\, 2:30 pm: Selendis Sebastian Alexander Johnson-vibraphone; Lemuel Marc-trumpet; Joe Morris-bass \nGeneral Admission $15 / Members $12 / Students $8 \nJoin us on Facebook and Instagram to get the latest!
URL:https://hartfordjazzsociety.com/event/instantiations-monthly-music-series-at-real-art-ways-2/
LOCATION:Real Art Ways\, 56 Arbor St\, Hartford\, CT
END:VEVENT
BEGIN:VEVENT
DTSTART;TZID=America/New_York:20260118T143000
DTEND;TZID=America/New_York:20260118T163000
DTSTAMP:20260424T190605
CREATED:20251202T203228Z
LAST-MODIFIED:20260108T020236Z
UID:10007355-1768746600-1768753800@hartfordjazzsociety.com
SUMMARY:Instantiations Monthly Music Series at Real Art Ways
DESCRIPTION:Instantiations\, formerly known as Improvisations Now\, is a monthly series of concerts conceived and programmed by Joe Morris (guitarist\, bassist\, improviser\, composer-wearer of many hats). Joe invites dynamic\, innovative musicians – important members of the global improvised music scene – and performs with them. The music is completely improvised. Every concert\, every instance is a unique experience. \nSunday\, 1/18\, 2:30 pm: Hidemi Akaiwa-piano; Hery Paz-tenor saxophone\, clarinet\, flute; Joe Morris-bass  \nSunday\, 2/15\, 2:30 pm: Adam Matlock-accordion; Diane Buettner-bass clarinet\, clarinet; Yoona Kim-Ajaeng; Joe Morris-guitar  \nSunday\, 3/15\, 2:30 pm: L. Mixashawn Rozie-tenor\, soprano saxophone\, mandolin\, voice; Michael Larocca-drums; Joe Morris-bass  \nSunday\, 4/12\, 2:30 pm: Melanie Dyer-viola; Solomon Caldwell-bass; Joe Morris-guitar  \nSunday\, 5/3\, 2:30 pm: Selendis Sebastian Alexander Johnson-vibraphone; Lemuel Marc-trumpet; Joe Morris-bass \nGeneral Admission $15 / Members $12 / Students $8 \nJoin us on Facebook and Instagram to get the latest!
URL:https://hartfordjazzsociety.com/event/instantiations-monthly-music-series-at-real-art-ways/
LOCATION:Real Art Ways\, 56 Arbor St\, Hartford\, CT
END:VEVENT
BEGIN:VEVENT
DTSTART;TZID=America/New_York:20251123T143000
DTEND;TZID=America/New_York:20251123T163000
DTSTAMP:20260424T190605
CREATED:20251022T235531Z
LAST-MODIFIED:20251022T235531Z
UID:10006941-1763908200-1763915400@hartfordjazzsociety.com
SUMMARY:Instantiations Monthly Music Series at Real Art Ways
DESCRIPTION:Instantiations\, formerly known as Improvisations Now\, is a monthly series of concerts conceived and programmed by Joe Morris (guitarist\, bassist\, improviser\, composer-wearer of many hats). Joe invites dynamic\, innovative musicians – important members of the global improvised music scene – and performs with them. The music is completely improvised. Every concert\, every instance is a unique experience. \nSunday\, 11/23\, 2:30 pm: Rob Brown-alto saxophone\, flute; Anna Webber-tenor saxophone\, flute; Matthew Rousseau-drums; Joe Morris-bass\, compositions \nSunday\, 12/14\, 2:30 pm: Brad Barrett-cello; Beth Ann Jones-bass; Joe Morris-guitar  \nSunday\, 1/18\, 2:30 pm: Hidemi Akaiwa-piano; Hery Paz-tenor saxophone\, clarinet\, flute; Joe Morris-bass  \nSunday\, 2/15\, 2:30 pm: Adam Matlock-accordion; Diane Buettner-bass clarinet\, clarinet; Yoona Kim-Ajaeng; Joe Morris-guitar  \nSunday\, 3/15\, 2:30 pm: L. Mixashawn Rozie-tenor\, soprano saxophone\, mandolin\, voice; Michael Larocca-drums; Joe Morris-bass  \nSunday\, 4/12\, 2:30 pm: Melanie Dyer-viola; Solomon Caldwell-bass; Joe Morris-guitar  \nSunday\, 5/3\, 2:30 pm: Selendis Sebastian Alexander Johnson-vibraphone; Lemuel Marc-trumpet; Joe Morris-bass \nGeneral Admission $15 / Members $12 / Students $8 \nJoin us on Facebook and Instagram to get the latest!
URL:https://hartfordjazzsociety.com/event/instantiations-monthly-music-series-at-real-art-ways-3/
LOCATION:Real Art Ways\, 56 Arbor St\, Hartford\, CT
END:VEVENT
END:VCALENDAR