BEGIN:VCALENDAR
VERSION:2.0
PRODID:-//Hartford Jazz Society - ECPv6.15.20//NONSGML v1.0//EN
CALSCALE:GREGORIAN
METHOD:PUBLISH
X-ORIGINAL-URL:https://hartfordjazzsociety.com
X-WR-CALDESC:Events for Hartford Jazz Society
REFRESH-INTERVAL;VALUE=DURATION:PT1H
X-Robots-Tag:noindex
X-PUBLISHED-TTL:PT1H
BEGIN:VTIMEZONE
TZID:America/New_York
BEGIN:DAYLIGHT
TZOFFSETFROM:-0500
TZOFFSETTO:-0400
TZNAME:EDT
DTSTART:20250309T070000
END:DAYLIGHT
BEGIN:STANDARD
TZOFFSETFROM:-0400
TZOFFSETTO:-0500
TZNAME:EST
DTSTART:20251102T060000
END:STANDARD
BEGIN:DAYLIGHT
TZOFFSETFROM:-0500
TZOFFSETTO:-0400
TZNAME:EDT
DTSTART:20260308T070000
END:DAYLIGHT
BEGIN:STANDARD
TZOFFSETFROM:-0400
TZOFFSETTO:-0500
TZNAME:EST
DTSTART:20261101T060000
END:STANDARD
BEGIN:DAYLIGHT
TZOFFSETFROM:-0500
TZOFFSETTO:-0400
TZNAME:EDT
DTSTART:20270314T070000
END:DAYLIGHT
BEGIN:STANDARD
TZOFFSETFROM:-0400
TZOFFSETTO:-0500
TZNAME:EST
DTSTART:20271107T060000
END:STANDARD
END:VTIMEZONE
BEGIN:VEVENT
DTSTART;TZID=America/New_York:20260503T143000
DTEND;TZID=America/New_York:20260503T163000
DTSTAMP:20260424T171902
CREATED:20260422T231936Z
LAST-MODIFIED:20260422T232052Z
UID:10007752-1777818600-1777825800@hartfordjazzsociety.com
SUMMARY:Instantiations Monthly Music Series at Real Art Ways
DESCRIPTION:Instantiations\, formerly known as Improvisations Now\, is a monthly series of concerts conceived and programmed by Joe Morris (guitarist\, bassist\, improviser\, composer-wearer of many hats). Joe invites dynamic\, innovative musicians – important members of the global improvised music scene – and performs with them. The music is completely improvised. Every concert\, every instance is a unique experience. Season finale. \nSelendis Sebastian Alexander Johnson\, a versatile multi-instrumentalist whose career is defined by an intuitive\, self-taught mastery of diverse sounds\, currently centers her work on the vibraphone and trombone\, although her musical journey spans the clarinet\, flute\, saxophone\, and bass guitar. She will be playing the vibraphone in this trio. \nLemuel Marc is a composer and trumpet player from Boston who improvises regularly throughout New England with Evan Palmer\, Yoona Kim\, Brittany Karlson\, Michael Larocca\, and the Hivemind Brass Quintet. Lemuel’s debut solo album\, “Replace the Population\,” was released last year on Relative Pitch Records. \nGuitarist\, bassist\, improviser\, composer\, and educator Joe Morris curates this monthly series and invites improvisers (many based in New England\, some from all over the country) for an afternoon of deep listening\, experimentation\, and intentional communication. Morris will play bass in this final installment of the season. \nGeneral Admission $15 / Members $12 / Students $8 \nJoin us on Facebook and Instagram to get the latest!
URL:https://hartfordjazzsociety.com/event/instantiations-monthly-music-series-at-real-art-ways-6/
LOCATION:Real Art Ways\, 56 Arbor St\, Hartford\, CT
END:VEVENT
END:VCALENDAR