BEGIN:VCALENDAR
VERSION:2.0
PRODID:-//Hartford Jazz Society - ECPv6.15.20//NONSGML v1.0//EN
CALSCALE:GREGORIAN
METHOD:PUBLISH
X-WR-CALNAME:Hartford Jazz Society
X-ORIGINAL-URL:https://hartfordjazzsociety.com
X-WR-CALDESC:Events for Hartford Jazz Society
REFRESH-INTERVAL;VALUE=DURATION:PT1H
X-Robots-Tag:noindex
X-PUBLISHED-TTL:PT1H
BEGIN:VTIMEZONE
TZID:America/New_York
BEGIN:DAYLIGHT
TZOFFSETFROM:-0500
TZOFFSETTO:-0400
TZNAME:EDT
DTSTART:20250309T070000
END:DAYLIGHT
BEGIN:STANDARD
TZOFFSETFROM:-0400
TZOFFSETTO:-0500
TZNAME:EST
DTSTART:20251102T060000
END:STANDARD
BEGIN:DAYLIGHT
TZOFFSETFROM:-0500
TZOFFSETTO:-0400
TZNAME:EDT
DTSTART:20260308T070000
END:DAYLIGHT
BEGIN:STANDARD
TZOFFSETFROM:-0400
TZOFFSETTO:-0500
TZNAME:EST
DTSTART:20261101T060000
END:STANDARD
BEGIN:DAYLIGHT
TZOFFSETFROM:-0500
TZOFFSETTO:-0400
TZNAME:EDT
DTSTART:20270314T070000
END:DAYLIGHT
BEGIN:STANDARD
TZOFFSETFROM:-0400
TZOFFSETTO:-0500
TZNAME:EST
DTSTART:20271107T060000
END:STANDARD
END:VTIMEZONE
BEGIN:VEVENT
DTSTART;TZID=America/New_York:20260514T193000
DTEND;TZID=America/New_York:20260514T213000
DTSTAMP:20260425T064347
CREATED:20260329T234038Z
LAST-MODIFIED:20260330T000214Z
UID:10007670-1778787000-1778794200@hartfordjazzsociety.com
SUMMARY:Jerome Sabbagh Quartet
DESCRIPTION:Jerome Sabbagh (sax)\, Gilad Hekselman (guitar)\, Joe Martin (bass)\, Nasheet Waits (drums) \nSaxophonist and composer Jerome Sabbagh was born in Paris in 1973 and has been living in Brooklyn since 1995. A prolific forward-thinking composer\, as well as a musician with a deep connection to the well of the jazz tradition\, he has recorded nine albums as a leader. \nJerome Sabbagh’s latest recordings are Heart (Analog Tone Factory\, 2024)\, a trio record with Joe Martin and master drummer Al Foster\, and Vintage (Sunnyside\, 2023)\, an album of original compositions and standards which features legendary pianist and NEA jazz master Kenny Barron in intimate duets\, as well as in a quartet setting with Joe Martin and Johnathan Blake. \nJerome Sabbagh’s longstanding group with Ben Monder\, Joe Martin and Ted Poor\, a band which has been together since 2004\, has released three albums\, the critically acclaimed North\, Pogo and The Turn\, which was listed as one of the best albums of 2014 by the Boston Globe\, Los Angeles Times\, DownBeat\, Ottawa Citizen and France Musique. Jerome has also recorded an album exclusively devoted to standards\, One Two Three\, in a saxophone trio setting with Ben Street and Rodney Green. I Will Follow You is a freer project featuring European drum legend Daniel Humair and Ben Monder. Plugged In\, sparked by a CMA/FACE grant\, is an electric project co-led with Jozef Dumoulin\, with Patrice Blanchard and Rudy Royston. \nAs a sideman\, Jerome Sabbagh was one of Paul Motian’s last saxophone players. After one gig together\, the legendary drummer asked him to play for a week at the Village Vanguard\, in his “New Trio” with guitarist Ben Monder\, in September 2011. He also has been involved with pianist Laurent Coq’s quartet\, Guillermo Klein’s Los Guachos and the Marta Sanchez Quintet. \nJerome Sabbagh has shared the stage with Al Foster\, Victor Lewis\, Bill Stewart\, Jeff Ballard\, Greg Hutchinson\, Billy Drummond\, Nasheet Waits\, Eric McPherson\, Justin Brown\, Eliot Zigmund\, Andrew Cyrille\, Damion Reid\, Mark Turner\, Melissa Aldana\, Reggie Workman\, Vicente Archer\, Matt Penman\, Matt Brewer\, Joe Sanders\, Steve Cardenas\, Lage Lund\, Mike Moreno\, Gilad Hekselman\, Dan Tepfer\, Pete Rende and Jean-Michel Pilc\, among others.
URL:https://hartfordjazzsociety.com/event/jerome-sabbagh-quartet/
LOCATION:The Blue Room at CitySpace\, 43 Main Street\, Easthampton\, MA
END:VEVENT
BEGIN:VEVENT
DTSTART;TZID=America/New_York:20260514T193000
DTEND;TZID=America/New_York:20260514T213000
DTSTAMP:20260425T064347
CREATED:20260423T232636Z
LAST-MODIFIED:20260423T232636Z
UID:10007758-1778787000-1778794200@hartfordjazzsociety.com
SUMMARY:Jerome Sabbagh Quartet
DESCRIPTION:Jerome Sabbagh (sax)\, Gilad Hekselman (guitar)\, Joe Martin (bass)\, Nasheet Waits (drums) \nSaxophonist and composer Jerome Sabbagh was born in Paris in 1973 and has been living in Brooklyn since 1995. A prolific forward-thinking composer\, as well as a musician with a deep connection to the well of the jazz tradition\, he has recorded nine albums as a leader. \nJerome Sabbagh’s latest recordings are Heart (Analog Tone Factory\, 2024)\, a trio record with Joe Martin and master drummer Al Foster\, and Vintage (Sunnyside\, 2023)\, an album of original compositions and standards which features legendary pianist and NEA jazz master Kenny Barron in intimate duets\, as well as in a quartet setting with Joe Martin and Johnathan Blake. \nJerome Sabbagh’s longstanding group with Ben Monder\, Joe Martin and Ted Poor\, a band which has been together since 2004\, has released three albums\, the critically acclaimed North\, Pogo and The Turn\, which was listed as one of the best albums of 2014 by the Boston Globe\, Los Angeles Times\, DownBeat\, Ottawa Citizen and France Musique. Jerome has also recorded an album exclusively devoted to standards\, One Two Three\, in a saxophone trio setting with Ben Street and Rodney Green. I Will Follow You is a freer project featuring European drum legend Daniel Humair and Ben Monder. Plugged In\, sparked by a CMA/FACE grant\, is an electric project co-led with Jozef Dumoulin\, with Patrice Blanchard and Rudy Royston. \nAs a sideman\, Jerome Sabbagh was one of Paul Motian’s last saxophone players. After one gig together\, the legendary drummer asked him to play for a week at the Village Vanguard\, in his “New Trio” with guitarist Ben Monder\, in September 2011. He also has been involved with pianist Laurent Coq’s quartet\, Guillermo Klein’s Los Guachos and the Marta Sanchez Quintet. \nJerome Sabbagh has shared the stage with Al Foster\, Victor Lewis\, Bill Stewart\, Jeff Ballard\, Greg Hutchinson\, Billy Drummond\, Nasheet Waits\, Eric McPherson\, Justin Brown\, Eliot Zigmund\, Andrew Cyrille\, Damion Reid\, Mark Turner\, Melissa Aldana\, Reggie Workman\, Vicente Archer\, Matt Penman\, Matt Brewer\, Joe Sanders\, Steve Cardenas\, Lage Lund\, Mike Moreno\, Gilad Hekselman\, Dan Tepfer\, Pete Rende and Jean-Michel Pilc\, among others.
URL:https://hartfordjazzsociety.com/event/jerome-sabbagh-quartet-2/
LOCATION:The Blue Room at CitySpace\, 43 Main Street\, Easthampton\, MA
END:VEVENT
END:VCALENDAR