BEGIN:VCALENDAR
VERSION:2.0
PRODID:-//Hartford Jazz Society - ECPv6.15.20//NONSGML v1.0//EN
CALSCALE:GREGORIAN
METHOD:PUBLISH
X-ORIGINAL-URL:https://hartfordjazzsociety.com
X-WR-CALDESC:Events for Hartford Jazz Society
REFRESH-INTERVAL;VALUE=DURATION:PT1H
X-Robots-Tag:noindex
X-PUBLISHED-TTL:PT1H
BEGIN:VTIMEZONE
TZID:America/New_York
BEGIN:DAYLIGHT
TZOFFSETFROM:-0500
TZOFFSETTO:-0400
TZNAME:EDT
DTSTART:20250309T070000
END:DAYLIGHT
BEGIN:STANDARD
TZOFFSETFROM:-0400
TZOFFSETTO:-0500
TZNAME:EST
DTSTART:20251102T060000
END:STANDARD
BEGIN:DAYLIGHT
TZOFFSETFROM:-0500
TZOFFSETTO:-0400
TZNAME:EDT
DTSTART:20260308T070000
END:DAYLIGHT
BEGIN:STANDARD
TZOFFSETFROM:-0400
TZOFFSETTO:-0500
TZNAME:EST
DTSTART:20261101T060000
END:STANDARD
BEGIN:DAYLIGHT
TZOFFSETFROM:-0500
TZOFFSETTO:-0400
TZNAME:EDT
DTSTART:20270314T070000
END:DAYLIGHT
BEGIN:STANDARD
TZOFFSETFROM:-0400
TZOFFSETTO:-0500
TZNAME:EST
DTSTART:20271107T060000
END:STANDARD
END:VTIMEZONE
BEGIN:VEVENT
DTSTART;TZID=America/New_York:20260205T193000
DTEND;TZID=America/New_York:20260205T213000
DTSTAMP:20260424T060519
CREATED:20251225T045345Z
LAST-MODIFIED:20260203T175056Z
UID:10007500-1770319800-1770327000@hartfordjazzsociety.com
SUMMARY:Kenny Warren’s Sweet World
DESCRIPTION:Kenny Warren (trumpet)\, Christopher Hoffman (cello)\, Nathan Ellman-Bell (drums) \nSweet World’s sound is a composite of its three members\, each unique voices from New York’s vibrant music scene. Melodic\, rhythmic\, jazz\, folk and sonic exploration in the context of Kenny Warren’s lively compositions. Their debut LP on Out of Your Head Records was hailed by the Best of Bandcamp as “the sonic representation of a beating heart”.  \nKenny Warren is a trumpeter and composer who has been active in NYC’s improvised music community since 2006. He has made over a dozen records of his music with various ensembles including 3 LPs with his avant-country outfit Laila and Smitty\, a handful of self-produced solo records\, and jazz records with his quartet and trio for Whirlwind Recordings and Out of Your Head Records. Longtime jazz writer for The Chicago Reader Peter Margasak calls Kenny “A player of great imagination and subtlety who always seems to focus on an ensemble-oriented sound even on his own recordings”. As a side-person Warren has recently recorded with The Angelica Sanchez Nonet\, Stephan Crump’s Passerine and Slow Water\, The Anna Webber/Angela Morris Large Ensemble\, and Tony Malaby’s Jersey Condombe. He has toured internationally with Jamie Baum\, Bonobo\, and Slavic Soul Party who has held a weekly residency at Barbes in Brooklyn for over 20 years. Warren grew up in Denver\, CO where he was inspired at a young age by the generosity and artistry of the late great Ron Miles. \nChristopher Hoffman is a cellist\, composer\, producer\, engineer and filmmaker. He currently performs in Henry Threadgill’s Pulitzer Prize winning ensemble Zooid\, Grammy-Nominated Anat Cohen Tentet\, Kenny Warren’s Sweet World\, Darius Jones Quintet and his own projects. He has directed several music videos\, 3 short films and BTS pieces for feature films. His short “You Dog Likes Me More Than You” is available to view on Amazon Prime and his short “Salamander” is currently screening in American and European festivals. He served as the Director of Production and Engineering at New School for 17 years. He has worked with Martin Scorsese\, Yoko Ono\, Jack Antonoff\, Iron & Wine\, Ryan Adams\, Jack Huston\, Marianne Faithfull\, Michael Pitt & Pagoda\, Marc Ribot\, Butch Morris\, Lee Konitz\, Anna Webber\, Ryan Scott\, Anthony Coleman\, Jeremiah Cymerman and many others \nNathan Ellman-Bell is one of NYC’s most versatile and in demand drummers. He co-leads the avant-pop band Wild Idol with singer Nora Palka\, and the Brooklyn jazz-rock band Slow Tiger. He plays with countless bands including those of Sebastien Amman\, Olli Hirvonen\, Kenny Warren\, Michael Sarian\, and Aleksi Glick. He is also a member of Brass Against who he has recorded and toured with extensively. In 2024 Brass Against spent 3 months in Europe on tour which included a five week run in support of the rock band Tool. Nathan grew up in Southern California and studied music at the Peabody Conservatory in Baltimore.
URL:https://hartfordjazzsociety.com/event/kenny-warren-trio/
LOCATION:The Blue Room\, 43 Main Street\, Easthampton\, MA
END:VEVENT
END:VCALENDAR