BEGIN:VCALENDAR
VERSION:2.0
PRODID:-//Hartford Jazz Society - ECPv6.15.20//NONSGML v1.0//EN
CALSCALE:GREGORIAN
METHOD:PUBLISH
X-WR-CALNAME:Hartford Jazz Society
X-ORIGINAL-URL:https://hartfordjazzsociety.com
X-WR-CALDESC:Events for Hartford Jazz Society
REFRESH-INTERVAL;VALUE=DURATION:PT1H
X-Robots-Tag:noindex
X-PUBLISHED-TTL:PT1H
BEGIN:VTIMEZONE
TZID:America/New_York
BEGIN:DAYLIGHT
TZOFFSETFROM:-0500
TZOFFSETTO:-0400
TZNAME:EDT
DTSTART:20240310T070000
END:DAYLIGHT
BEGIN:STANDARD
TZOFFSETFROM:-0400
TZOFFSETTO:-0500
TZNAME:EST
DTSTART:20241103T060000
END:STANDARD
BEGIN:DAYLIGHT
TZOFFSETFROM:-0500
TZOFFSETTO:-0400
TZNAME:EDT
DTSTART:20250309T070000
END:DAYLIGHT
BEGIN:STANDARD
TZOFFSETFROM:-0400
TZOFFSETTO:-0500
TZNAME:EST
DTSTART:20251102T060000
END:STANDARD
BEGIN:DAYLIGHT
TZOFFSETFROM:-0500
TZOFFSETTO:-0400
TZNAME:EDT
DTSTART:20260308T070000
END:DAYLIGHT
BEGIN:STANDARD
TZOFFSETFROM:-0400
TZOFFSETTO:-0500
TZNAME:EST
DTSTART:20261101T060000
END:STANDARD
BEGIN:DAYLIGHT
TZOFFSETFROM:-0500
TZOFFSETTO:-0400
TZNAME:EDT
DTSTART:20270314T070000
END:DAYLIGHT
BEGIN:STANDARD
TZOFFSETFROM:-0400
TZOFFSETTO:-0500
TZNAME:EST
DTSTART:20271107T060000
END:STANDARD
END:VTIMEZONE
BEGIN:VEVENT
DTSTART;TZID=America/New_York:20260421T200000
DTEND;TZID=America/New_York:20260421T220000
DTSTAMP:20260425T064359
CREATED:20251116T034317Z
LAST-MODIFIED:20251116T034317Z
UID:10007292-1776801600-1776808800@hartfordjazzsociety.com
SUMMARY:Michael Palin's Other Orchestra
DESCRIPTION:It’s a funky Big Band thang\, a large jazz ensemble that rocks the house. Playing music from Tower of Power\, Frank Zappa\, The Brecker Brothers\, Jaco Pastorious\, Steely Dan\, The Yellow Jackets\, Bob Berg…..You’ll want to see them again and again! \nhttps://www.facebook.com/OtherOrchestra/
URL:https://hartfordjazzsociety.com/event/michael-palins-other-orchestra/2026-04-21/
LOCATION:The Hungry Tiger\, 120 Charter Oak Street\, Manchester\, CT
END:VEVENT
BEGIN:VEVENT
DTSTART;TZID=America/New_York:20260414T200000
DTEND;TZID=America/New_York:20260414T220000
DTSTAMP:20260425T064359
CREATED:20251116T034317Z
LAST-MODIFIED:20251116T034317Z
UID:10007291-1776196800-1776204000@hartfordjazzsociety.com
SUMMARY:Michael Palin's Other Orchestra
DESCRIPTION:It’s a funky Big Band thang\, a large jazz ensemble that rocks the house. Playing music from Tower of Power\, Frank Zappa\, The Brecker Brothers\, Jaco Pastorious\, Steely Dan\, The Yellow Jackets\, Bob Berg…..You’ll want to see them again and again! \nhttps://www.facebook.com/OtherOrchestra/
URL:https://hartfordjazzsociety.com/event/michael-palins-other-orchestra/2026-04-14/
LOCATION:The Hungry Tiger\, 120 Charter Oak Street\, Manchester\, CT
END:VEVENT
BEGIN:VEVENT
DTSTART;TZID=America/New_York:20260407T200000
DTEND;TZID=America/New_York:20260407T220000
DTSTAMP:20260425T064359
CREATED:20251116T034317Z
LAST-MODIFIED:20251116T034317Z
UID:10007290-1775592000-1775599200@hartfordjazzsociety.com
SUMMARY:Michael Palin's Other Orchestra
DESCRIPTION:It’s a funky Big Band thang\, a large jazz ensemble that rocks the house. Playing music from Tower of Power\, Frank Zappa\, The Brecker Brothers\, Jaco Pastorious\, Steely Dan\, The Yellow Jackets\, Bob Berg…..You’ll want to see them again and again! \nhttps://www.facebook.com/OtherOrchestra/
URL:https://hartfordjazzsociety.com/event/michael-palins-other-orchestra/2026-04-07/
LOCATION:The Hungry Tiger\, 120 Charter Oak Street\, Manchester\, CT
END:VEVENT
BEGIN:VEVENT
DTSTART;TZID=America/New_York:20260331T200000
DTEND;TZID=America/New_York:20260331T220000
DTSTAMP:20260425T064359
CREATED:20251116T034317Z
LAST-MODIFIED:20251116T034317Z
UID:10007289-1774987200-1774994400@hartfordjazzsociety.com
SUMMARY:Michael Palin's Other Orchestra
DESCRIPTION:It’s a funky Big Band thang\, a large jazz ensemble that rocks the house. Playing music from Tower of Power\, Frank Zappa\, The Brecker Brothers\, Jaco Pastorious\, Steely Dan\, The Yellow Jackets\, Bob Berg…..You’ll want to see them again and again! \nhttps://www.facebook.com/OtherOrchestra/
URL:https://hartfordjazzsociety.com/event/michael-palins-other-orchestra/2026-03-31/
LOCATION:The Hungry Tiger\, 120 Charter Oak Street\, Manchester\, CT
END:VEVENT
BEGIN:VEVENT
DTSTART;TZID=America/New_York:20260324T200000
DTEND;TZID=America/New_York:20260324T220000
DTSTAMP:20260425T064359
CREATED:20251116T034317Z
LAST-MODIFIED:20251116T034317Z
UID:10007288-1774382400-1774389600@hartfordjazzsociety.com
SUMMARY:Michael Palin's Other Orchestra
DESCRIPTION:It’s a funky Big Band thang\, a large jazz ensemble that rocks the house. Playing music from Tower of Power\, Frank Zappa\, The Brecker Brothers\, Jaco Pastorious\, Steely Dan\, The Yellow Jackets\, Bob Berg…..You’ll want to see them again and again! \nhttps://www.facebook.com/OtherOrchestra/
URL:https://hartfordjazzsociety.com/event/michael-palins-other-orchestra/2026-03-24/
LOCATION:The Hungry Tiger\, 120 Charter Oak Street\, Manchester\, CT
END:VEVENT
BEGIN:VEVENT
DTSTART;TZID=America/New_York:20260317T200000
DTEND;TZID=America/New_York:20260317T220000
DTSTAMP:20260425T064359
CREATED:20251116T034317Z
LAST-MODIFIED:20251116T034317Z
UID:10007287-1773777600-1773784800@hartfordjazzsociety.com
SUMMARY:Michael Palin's Other Orchestra
DESCRIPTION:It’s a funky Big Band thang\, a large jazz ensemble that rocks the house. Playing music from Tower of Power\, Frank Zappa\, The Brecker Brothers\, Jaco Pastorious\, Steely Dan\, The Yellow Jackets\, Bob Berg…..You’ll want to see them again and again! \nhttps://www.facebook.com/OtherOrchestra/
URL:https://hartfordjazzsociety.com/event/michael-palins-other-orchestra/2026-03-17/
LOCATION:The Hungry Tiger\, 120 Charter Oak Street\, Manchester\, CT
END:VEVENT
BEGIN:VEVENT
DTSTART;TZID=America/New_York:20260310T200000
DTEND;TZID=America/New_York:20260310T220000
DTSTAMP:20260425T064359
CREATED:20251116T034317Z
LAST-MODIFIED:20251116T034317Z
UID:10007286-1773172800-1773180000@hartfordjazzsociety.com
SUMMARY:Michael Palin's Other Orchestra
DESCRIPTION:It’s a funky Big Band thang\, a large jazz ensemble that rocks the house. Playing music from Tower of Power\, Frank Zappa\, The Brecker Brothers\, Jaco Pastorious\, Steely Dan\, The Yellow Jackets\, Bob Berg…..You’ll want to see them again and again! \nhttps://www.facebook.com/OtherOrchestra/
URL:https://hartfordjazzsociety.com/event/michael-palins-other-orchestra/2026-03-10/
LOCATION:The Hungry Tiger\, 120 Charter Oak Street\, Manchester\, CT
END:VEVENT
BEGIN:VEVENT
DTSTART;TZID=America/New_York:20260303T200000
DTEND;TZID=America/New_York:20260303T220000
DTSTAMP:20260425T064359
CREATED:20251116T034317Z
LAST-MODIFIED:20251116T034317Z
UID:10007285-1772568000-1772575200@hartfordjazzsociety.com
SUMMARY:Michael Palin's Other Orchestra
DESCRIPTION:It’s a funky Big Band thang\, a large jazz ensemble that rocks the house. Playing music from Tower of Power\, Frank Zappa\, The Brecker Brothers\, Jaco Pastorious\, Steely Dan\, The Yellow Jackets\, Bob Berg…..You’ll want to see them again and again! \nhttps://www.facebook.com/OtherOrchestra/
URL:https://hartfordjazzsociety.com/event/michael-palins-other-orchestra/2026-03-03/
LOCATION:The Hungry Tiger\, 120 Charter Oak Street\, Manchester\, CT
END:VEVENT
BEGIN:VEVENT
DTSTART;TZID=America/New_York:20260224T200000
DTEND;TZID=America/New_York:20260224T220000
DTSTAMP:20260425T064359
CREATED:20251116T034317Z
LAST-MODIFIED:20251116T034317Z
UID:10007284-1771963200-1771970400@hartfordjazzsociety.com
SUMMARY:Michael Palin's Other Orchestra
DESCRIPTION:It’s a funky Big Band thang\, a large jazz ensemble that rocks the house. Playing music from Tower of Power\, Frank Zappa\, The Brecker Brothers\, Jaco Pastorious\, Steely Dan\, The Yellow Jackets\, Bob Berg…..You’ll want to see them again and again! \nhttps://www.facebook.com/OtherOrchestra/
URL:https://hartfordjazzsociety.com/event/michael-palins-other-orchestra/2026-02-24/
LOCATION:The Hungry Tiger\, 120 Charter Oak Street\, Manchester\, CT
END:VEVENT
BEGIN:VEVENT
DTSTART;TZID=America/New_York:20260217T200000
DTEND;TZID=America/New_York:20260217T220000
DTSTAMP:20260425T064359
CREATED:20251116T034317Z
LAST-MODIFIED:20251116T034317Z
UID:10007283-1771358400-1771365600@hartfordjazzsociety.com
SUMMARY:Michael Palin's Other Orchestra
DESCRIPTION:It’s a funky Big Band thang\, a large jazz ensemble that rocks the house. Playing music from Tower of Power\, Frank Zappa\, The Brecker Brothers\, Jaco Pastorious\, Steely Dan\, The Yellow Jackets\, Bob Berg…..You’ll want to see them again and again! \nhttps://www.facebook.com/OtherOrchestra/
URL:https://hartfordjazzsociety.com/event/michael-palins-other-orchestra/2026-02-17/
LOCATION:The Hungry Tiger\, 120 Charter Oak Street\, Manchester\, CT
END:VEVENT
BEGIN:VEVENT
DTSTART;TZID=America/New_York:20260210T200000
DTEND;TZID=America/New_York:20260210T220000
DTSTAMP:20260425T064359
CREATED:20251116T034317Z
LAST-MODIFIED:20251116T034317Z
UID:10007282-1770753600-1770760800@hartfordjazzsociety.com
SUMMARY:Michael Palin's Other Orchestra
DESCRIPTION:It’s a funky Big Band thang\, a large jazz ensemble that rocks the house. Playing music from Tower of Power\, Frank Zappa\, The Brecker Brothers\, Jaco Pastorious\, Steely Dan\, The Yellow Jackets\, Bob Berg…..You’ll want to see them again and again! \nhttps://www.facebook.com/OtherOrchestra/
URL:https://hartfordjazzsociety.com/event/michael-palins-other-orchestra/2026-02-10/
LOCATION:The Hungry Tiger\, 120 Charter Oak Street\, Manchester\, CT
END:VEVENT
BEGIN:VEVENT
DTSTART;TZID=America/New_York:20260203T200000
DTEND;TZID=America/New_York:20260203T220000
DTSTAMP:20260425T064359
CREATED:20251116T034317Z
LAST-MODIFIED:20251116T034317Z
UID:10007281-1770148800-1770156000@hartfordjazzsociety.com
SUMMARY:Michael Palin's Other Orchestra
DESCRIPTION:It’s a funky Big Band thang\, a large jazz ensemble that rocks the house. Playing music from Tower of Power\, Frank Zappa\, The Brecker Brothers\, Jaco Pastorious\, Steely Dan\, The Yellow Jackets\, Bob Berg…..You’ll want to see them again and again! \nhttps://www.facebook.com/OtherOrchestra/
URL:https://hartfordjazzsociety.com/event/michael-palins-other-orchestra/2026-02-03/
LOCATION:The Hungry Tiger\, 120 Charter Oak Street\, Manchester\, CT
END:VEVENT
BEGIN:VEVENT
DTSTART;TZID=America/New_York:20260127T200000
DTEND;TZID=America/New_York:20260127T220000
DTSTAMP:20260425T064400
CREATED:20251116T034317Z
LAST-MODIFIED:20251116T034317Z
UID:10007280-1769544000-1769551200@hartfordjazzsociety.com
SUMMARY:Michael Palin's Other Orchestra
DESCRIPTION:It’s a funky Big Band thang\, a large jazz ensemble that rocks the house. Playing music from Tower of Power\, Frank Zappa\, The Brecker Brothers\, Jaco Pastorious\, Steely Dan\, The Yellow Jackets\, Bob Berg…..You’ll want to see them again and again! \nhttps://www.facebook.com/OtherOrchestra/
URL:https://hartfordjazzsociety.com/event/michael-palins-other-orchestra/2026-01-27/
LOCATION:The Hungry Tiger\, 120 Charter Oak Street\, Manchester\, CT
END:VEVENT
BEGIN:VEVENT
DTSTART;TZID=America/New_York:20260120T200000
DTEND;TZID=America/New_York:20260120T220000
DTSTAMP:20260425T064400
CREATED:20251116T034317Z
LAST-MODIFIED:20251116T034317Z
UID:10007279-1768939200-1768946400@hartfordjazzsociety.com
SUMMARY:Michael Palin's Other Orchestra
DESCRIPTION:It’s a funky Big Band thang\, a large jazz ensemble that rocks the house. Playing music from Tower of Power\, Frank Zappa\, The Brecker Brothers\, Jaco Pastorious\, Steely Dan\, The Yellow Jackets\, Bob Berg…..You’ll want to see them again and again! \nhttps://www.facebook.com/OtherOrchestra/
URL:https://hartfordjazzsociety.com/event/michael-palins-other-orchestra/2026-01-20/
LOCATION:The Hungry Tiger\, 120 Charter Oak Street\, Manchester\, CT
END:VEVENT
BEGIN:VEVENT
DTSTART;TZID=America/New_York:20260113T200000
DTEND;TZID=America/New_York:20260113T220000
DTSTAMP:20260425T064400
CREATED:20251116T034317Z
LAST-MODIFIED:20251116T034317Z
UID:10007278-1768334400-1768341600@hartfordjazzsociety.com
SUMMARY:Michael Palin's Other Orchestra
DESCRIPTION:It’s a funky Big Band thang\, a large jazz ensemble that rocks the house. Playing music from Tower of Power\, Frank Zappa\, The Brecker Brothers\, Jaco Pastorious\, Steely Dan\, The Yellow Jackets\, Bob Berg…..You’ll want to see them again and again! \nhttps://www.facebook.com/OtherOrchestra/
URL:https://hartfordjazzsociety.com/event/michael-palins-other-orchestra/2026-01-13/
LOCATION:The Hungry Tiger\, 120 Charter Oak Street\, Manchester\, CT
END:VEVENT
BEGIN:VEVENT
DTSTART;TZID=America/New_York:20260106T200000
DTEND;TZID=America/New_York:20260106T220000
DTSTAMP:20260425T064400
CREATED:20251116T034317Z
LAST-MODIFIED:20251116T034317Z
UID:10007277-1767729600-1767736800@hartfordjazzsociety.com
SUMMARY:Michael Palin's Other Orchestra
DESCRIPTION:It’s a funky Big Band thang\, a large jazz ensemble that rocks the house. Playing music from Tower of Power\, Frank Zappa\, The Brecker Brothers\, Jaco Pastorious\, Steely Dan\, The Yellow Jackets\, Bob Berg…..You’ll want to see them again and again! \nhttps://www.facebook.com/OtherOrchestra/
URL:https://hartfordjazzsociety.com/event/michael-palins-other-orchestra/2026-01-06/
LOCATION:The Hungry Tiger\, 120 Charter Oak Street\, Manchester\, CT
END:VEVENT
BEGIN:VEVENT
DTSTART;TZID=America/New_York:20251230T200000
DTEND;TZID=America/New_York:20251230T220000
DTSTAMP:20260425T064400
CREATED:20251116T034317Z
LAST-MODIFIED:20251116T034317Z
UID:10007276-1767124800-1767132000@hartfordjazzsociety.com
SUMMARY:Michael Palin's Other Orchestra
DESCRIPTION:It’s a funky Big Band thang\, a large jazz ensemble that rocks the house. Playing music from Tower of Power\, Frank Zappa\, The Brecker Brothers\, Jaco Pastorious\, Steely Dan\, The Yellow Jackets\, Bob Berg…..You’ll want to see them again and again! \nhttps://www.facebook.com/OtherOrchestra/
URL:https://hartfordjazzsociety.com/event/michael-palins-other-orchestra/2025-12-30/
LOCATION:The Hungry Tiger\, 120 Charter Oak Street\, Manchester\, CT
END:VEVENT
BEGIN:VEVENT
DTSTART;TZID=America/New_York:20251223T200000
DTEND;TZID=America/New_York:20251223T220000
DTSTAMP:20260425T064400
CREATED:20251116T034317Z
LAST-MODIFIED:20251116T034317Z
UID:10007275-1766520000-1766527200@hartfordjazzsociety.com
SUMMARY:Michael Palin's Other Orchestra
DESCRIPTION:It’s a funky Big Band thang\, a large jazz ensemble that rocks the house. Playing music from Tower of Power\, Frank Zappa\, The Brecker Brothers\, Jaco Pastorious\, Steely Dan\, The Yellow Jackets\, Bob Berg…..You’ll want to see them again and again! \nhttps://www.facebook.com/OtherOrchestra/
URL:https://hartfordjazzsociety.com/event/michael-palins-other-orchestra/2025-12-23/
LOCATION:The Hungry Tiger\, 120 Charter Oak Street\, Manchester\, CT
END:VEVENT
BEGIN:VEVENT
DTSTART;TZID=America/New_York:20251216T200000
DTEND;TZID=America/New_York:20251216T220000
DTSTAMP:20260425T064400
CREATED:20251116T034317Z
LAST-MODIFIED:20251116T034317Z
UID:10007274-1765915200-1765922400@hartfordjazzsociety.com
SUMMARY:Michael Palin's Other Orchestra
DESCRIPTION:It’s a funky Big Band thang\, a large jazz ensemble that rocks the house. Playing music from Tower of Power\, Frank Zappa\, The Brecker Brothers\, Jaco Pastorious\, Steely Dan\, The Yellow Jackets\, Bob Berg…..You’ll want to see them again and again! \nhttps://www.facebook.com/OtherOrchestra/
URL:https://hartfordjazzsociety.com/event/michael-palins-other-orchestra/2025-12-16/
LOCATION:The Hungry Tiger\, 120 Charter Oak Street\, Manchester\, CT
END:VEVENT
BEGIN:VEVENT
DTSTART;TZID=America/New_York:20251209T200000
DTEND;TZID=America/New_York:20251209T220000
DTSTAMP:20260425T064400
CREATED:20251116T034317Z
LAST-MODIFIED:20251116T034317Z
UID:10007273-1765310400-1765317600@hartfordjazzsociety.com
SUMMARY:Michael Palin's Other Orchestra
DESCRIPTION:It’s a funky Big Band thang\, a large jazz ensemble that rocks the house. Playing music from Tower of Power\, Frank Zappa\, The Brecker Brothers\, Jaco Pastorious\, Steely Dan\, The Yellow Jackets\, Bob Berg…..You’ll want to see them again and again! \nhttps://www.facebook.com/OtherOrchestra/
URL:https://hartfordjazzsociety.com/event/michael-palins-other-orchestra/2025-12-09/
LOCATION:The Hungry Tiger\, 120 Charter Oak Street\, Manchester\, CT
END:VEVENT
BEGIN:VEVENT
DTSTART;TZID=America/New_York:20251202T200000
DTEND;TZID=America/New_York:20251202T220000
DTSTAMP:20260425T064400
CREATED:20251116T034317Z
LAST-MODIFIED:20251116T034317Z
UID:10007272-1764705600-1764712800@hartfordjazzsociety.com
SUMMARY:Michael Palin's Other Orchestra
DESCRIPTION:It’s a funky Big Band thang\, a large jazz ensemble that rocks the house. Playing music from Tower of Power\, Frank Zappa\, The Brecker Brothers\, Jaco Pastorious\, Steely Dan\, The Yellow Jackets\, Bob Berg…..You’ll want to see them again and again! \nhttps://www.facebook.com/OtherOrchestra/
URL:https://hartfordjazzsociety.com/event/michael-palins-other-orchestra/2025-12-02/
LOCATION:The Hungry Tiger\, 120 Charter Oak Street\, Manchester\, CT
END:VEVENT
BEGIN:VEVENT
DTSTART;TZID=America/New_York:20251125T200000
DTEND;TZID=America/New_York:20251125T220000
DTSTAMP:20260425T064400
CREATED:20251116T034317Z
LAST-MODIFIED:20251116T034317Z
UID:10007271-1764100800-1764108000@hartfordjazzsociety.com
SUMMARY:Michael Palin's Other Orchestra
DESCRIPTION:It’s a funky Big Band thang\, a large jazz ensemble that rocks the house. Playing music from Tower of Power\, Frank Zappa\, The Brecker Brothers\, Jaco Pastorious\, Steely Dan\, The Yellow Jackets\, Bob Berg…..You’ll want to see them again and again! \nhttps://www.facebook.com/OtherOrchestra/
URL:https://hartfordjazzsociety.com/event/michael-palins-other-orchestra/2025-11-25/
LOCATION:The Hungry Tiger\, 120 Charter Oak Street\, Manchester\, CT
END:VEVENT
BEGIN:VEVENT
DTSTART;TZID=America/New_York:20251118T200000
DTEND;TZID=America/New_York:20251118T220000
DTSTAMP:20260425T064400
CREATED:20251116T034317Z
LAST-MODIFIED:20251116T034317Z
UID:10007270-1763496000-1763503200@hartfordjazzsociety.com
SUMMARY:Michael Palin's Other Orchestra
DESCRIPTION:It’s a funky Big Band thang\, a large jazz ensemble that rocks the house. Playing music from Tower of Power\, Frank Zappa\, The Brecker Brothers\, Jaco Pastorious\, Steely Dan\, The Yellow Jackets\, Bob Berg…..You’ll want to see them again and again! \nhttps://www.facebook.com/OtherOrchestra/
URL:https://hartfordjazzsociety.com/event/michael-palins-other-orchestra/2025-11-18/
LOCATION:The Hungry Tiger\, 120 Charter Oak Street\, Manchester\, CT
END:VEVENT
END:VCALENDAR