BEGIN:VCALENDAR
VERSION:2.0
PRODID:-//Hartford Jazz Society - ECPv6.15.20//NONSGML v1.0//EN
CALSCALE:GREGORIAN
METHOD:PUBLISH
X-ORIGINAL-URL:https://hartfordjazzsociety.com
X-WR-CALDESC:Events for Hartford Jazz Society
REFRESH-INTERVAL;VALUE=DURATION:PT1H
X-Robots-Tag:noindex
X-PUBLISHED-TTL:PT1H
BEGIN:VTIMEZONE
TZID:America/New_York
BEGIN:DAYLIGHT
TZOFFSETFROM:-0500
TZOFFSETTO:-0400
TZNAME:EDT
DTSTART:20250309T070000
END:DAYLIGHT
BEGIN:STANDARD
TZOFFSETFROM:-0400
TZOFFSETTO:-0500
TZNAME:EST
DTSTART:20251102T060000
END:STANDARD
BEGIN:DAYLIGHT
TZOFFSETFROM:-0500
TZOFFSETTO:-0400
TZNAME:EDT
DTSTART:20260308T070000
END:DAYLIGHT
BEGIN:STANDARD
TZOFFSETFROM:-0400
TZOFFSETTO:-0500
TZNAME:EST
DTSTART:20261101T060000
END:STANDARD
BEGIN:DAYLIGHT
TZOFFSETFROM:-0500
TZOFFSETTO:-0400
TZNAME:EDT
DTSTART:20270314T070000
END:DAYLIGHT
BEGIN:STANDARD
TZOFFSETFROM:-0400
TZOFFSETTO:-0500
TZNAME:EST
DTSTART:20271107T060000
END:STANDARD
END:VTIMEZONE
BEGIN:VEVENT
DTSTART;TZID=America/New_York:20260126T193000
DTEND;TZID=America/New_York:20260126T223000
DTSTAMP:20260424T095318
CREATED:20260126T035745Z
LAST-MODIFIED:20260126T213835Z
UID:10007591-1769455800-1769466600@hartfordjazzsociety.com
SUMMARY:New Haven Improvisers Collective (workshop) - CANCELLED
DESCRIPTION:The New Haven Improvisers Collective is dedicated to bringing improvised music to New Haven. Bring your instrument to the next NHIC improvised music workshop. Visit the website below and send your contact information to info@nhic-music.org \nhttps://www.nhic-music.org \nhttps://www.facebook.com/groups/95225530822 \nNotes and directions about The Sandbox. It’s a great space\, but has it’s challenges. Its on the second floor (with elevator).\nDoor is locked so everyone will need to be let in\, so try to get there by 7:30. Someone will check after every exercise for latecomers. \nParking is as follows There is a paid garage right at the building\, otherwise street parking\, mostly metered. Similar costs. There is some free parking on Lincoln Street\, and a pathway at the end so you can walk directly to the building.
URL:https://hartfordjazzsociety.com/event/new-haven-improvisers-collective-workshop-3/
LOCATION:The Sandbox\, 70 Audubon Street\, New Haven\, CT
END:VEVENT
END:VCALENDAR