BEGIN:VCALENDAR
VERSION:2.0
PRODID:-//Hartford Jazz Society - ECPv6.15.20//NONSGML v1.0//EN
CALSCALE:GREGORIAN
METHOD:PUBLISH
X-WR-CALNAME:Hartford Jazz Society
X-ORIGINAL-URL:https://hartfordjazzsociety.com
X-WR-CALDESC:Events for Hartford Jazz Society
REFRESH-INTERVAL;VALUE=DURATION:PT1H
X-Robots-Tag:noindex
X-PUBLISHED-TTL:PT1H
BEGIN:VTIMEZONE
TZID:America/New_York
BEGIN:DAYLIGHT
TZOFFSETFROM:-0500
TZOFFSETTO:-0400
TZNAME:EDT
DTSTART:20250309T070000
END:DAYLIGHT
BEGIN:STANDARD
TZOFFSETFROM:-0400
TZOFFSETTO:-0500
TZNAME:EST
DTSTART:20251102T060000
END:STANDARD
BEGIN:DAYLIGHT
TZOFFSETFROM:-0500
TZOFFSETTO:-0400
TZNAME:EDT
DTSTART:20260308T070000
END:DAYLIGHT
BEGIN:STANDARD
TZOFFSETFROM:-0400
TZOFFSETTO:-0500
TZNAME:EST
DTSTART:20261101T060000
END:STANDARD
BEGIN:DAYLIGHT
TZOFFSETFROM:-0500
TZOFFSETTO:-0400
TZNAME:EDT
DTSTART:20270314T070000
END:DAYLIGHT
BEGIN:STANDARD
TZOFFSETFROM:-0400
TZOFFSETTO:-0500
TZNAME:EST
DTSTART:20271107T060000
END:STANDARD
END:VTIMEZONE
BEGIN:VEVENT
DTSTART;TZID=America/New_York:20260427T193000
DTEND;TZID=America/New_York:20260427T213000
DTSTAMP:20260424T060135
CREATED:20260423T231744Z
LAST-MODIFIED:20260423T231744Z
UID:10007755-1777318200-1777325400@hartfordjazzsociety.com
SUMMARY:NHIC music open workshop
DESCRIPTION:The workshop will be run by Mike Brooks and Paul McGuire. \nNotes and directions about The Sandbox.\nIt’s a great space\, but has it’s challenges.  Its on the second floor (with elevator).\nDoor is locked so everyone will need to be let in\,  Someone will check periodically. \nParking is as follows  There is a paid garage right at the building (see rates below)\, otherwise street parking\, mostly metered.  Similar costs.  There is some free parking on Lincoln st\, and a pathway at the end so you can walk directly to the building.
URL:https://hartfordjazzsociety.com/event/nhic-music-open-workshop/
LOCATION:The Sandbox\, 70 Audubon Street\, New Haven\, CT
END:VEVENT
END:VCALENDAR